BEGIN:VCALENDAR
VERSION:2.0
PRODID:-//Tapps Island Golf Course - ECPv6.15.18//NONSGML v1.0//EN
CALSCALE:GREGORIAN
METHOD:PUBLISH
X-WR-CALNAME:Tapps Island Golf Course
X-ORIGINAL-URL:https://www.tappsislandgolf.com
X-WR-CALDESC:Events for Tapps Island Golf Course
REFRESH-INTERVAL;VALUE=DURATION:PT1H
X-Robots-Tag:noindex
X-PUBLISHED-TTL:PT1H
BEGIN:VTIMEZONE
TZID:America/Denver
BEGIN:DAYLIGHT
TZOFFSETFROM:-0700
TZOFFSETTO:-0600
TZNAME:MDT
DTSTART:20250309T090000
END:DAYLIGHT
BEGIN:STANDARD
TZOFFSETFROM:-0600
TZOFFSETTO:-0700
TZNAME:MST
DTSTART:20251102T080000
END:STANDARD
BEGIN:DAYLIGHT
TZOFFSETFROM:-0700
TZOFFSETTO:-0600
TZNAME:MDT
DTSTART:20260308T090000
END:DAYLIGHT
BEGIN:STANDARD
TZOFFSETFROM:-0600
TZOFFSETTO:-0700
TZNAME:MST
DTSTART:20261101T080000
END:STANDARD
BEGIN:DAYLIGHT
TZOFFSETFROM:-0700
TZOFFSETTO:-0600
TZNAME:MDT
DTSTART:20270314T090000
END:DAYLIGHT
BEGIN:STANDARD
TZOFFSETFROM:-0600
TZOFFSETTO:-0700
TZNAME:MST
DTSTART:20271107T080000
END:STANDARD
END:VTIMEZONE
BEGIN:VEVENT
DTSTART;TZID=America/Denver:20261001T080000
DTEND;TZID=America/Denver:20261001T090000
DTSTAMP:20260423T115730
CREATED:20250616T171055Z
LAST-MODIFIED:20250616T171059Z
UID:10000955-1790841600-1790845200@www.tappsislandgolf.com
SUMMARY:Senior's CLub
DESCRIPTION:
URL:https://www.tappsislandgolf.com/event/seniors-club-2/2026-10-01/
CATEGORIES:leagues
END:VEVENT
BEGIN:VEVENT
DTSTART;TZID=America/Denver:20261006T080000
DTEND;TZID=America/Denver:20261006T090000
DTSTAMP:20260423T115731
CREATED:20250616T170923Z
LAST-MODIFIED:20260211T162458Z
UID:10000695-1791273600-1791277200@www.tappsislandgolf.com
SUMMARY:Senior's Club
DESCRIPTION:
URL:https://www.tappsislandgolf.com/event/seniors-club/2026-10-06/
CATEGORIES:leagues
END:VEVENT
BEGIN:VEVENT
DTSTART;TZID=America/Denver:20261008T080000
DTEND;TZID=America/Denver:20261008T090000
DTSTAMP:20260423T115731
CREATED:20250616T171055Z
LAST-MODIFIED:20250616T171059Z
UID:10000956-1791446400-1791450000@www.tappsislandgolf.com
SUMMARY:Senior's CLub
DESCRIPTION:
URL:https://www.tappsislandgolf.com/event/seniors-club-2/2026-10-08/
CATEGORIES:leagues
END:VEVENT
BEGIN:VEVENT
DTSTART;TZID=America/Denver:20261013T080000
DTEND;TZID=America/Denver:20261013T090000
DTSTAMP:20260423T115731
CREATED:20250616T170923Z
LAST-MODIFIED:20260211T162458Z
UID:10000696-1791878400-1791882000@www.tappsislandgolf.com
SUMMARY:Senior's Club
DESCRIPTION:
URL:https://www.tappsislandgolf.com/event/seniors-club/2026-10-13/
CATEGORIES:leagues
END:VEVENT
BEGIN:VEVENT
DTSTART;TZID=America/Denver:20261015T080000
DTEND;TZID=America/Denver:20261015T090000
DTSTAMP:20260423T115731
CREATED:20250616T171055Z
LAST-MODIFIED:20250616T171059Z
UID:10000957-1792051200-1792054800@www.tappsislandgolf.com
SUMMARY:Senior's CLub
DESCRIPTION:
URL:https://www.tappsislandgolf.com/event/seniors-club-2/2026-10-15/
CATEGORIES:leagues
END:VEVENT
BEGIN:VEVENT
DTSTART;TZID=America/Denver:20261017T080000
DTEND;TZID=America/Denver:20261017T130000
DTSTAMP:20260423T115731
CREATED:20260210T183627Z
LAST-MODIFIED:20260210T183628Z
UID:10001192-1792224000-1792242000@www.tappsislandgolf.com
SUMMARY:Men's Club October Both Holes
DESCRIPTION:
URL:https://www.tappsislandgolf.com/event/mens-club-october-both-holes/
END:VEVENT
BEGIN:VEVENT
DTSTART;TZID=America/Denver:20261020T080000
DTEND;TZID=America/Denver:20261020T090000
DTSTAMP:20260423T115731
CREATED:20250616T170923Z
LAST-MODIFIED:20260211T162458Z
UID:10000697-1792483200-1792486800@www.tappsislandgolf.com
SUMMARY:Senior's Club
DESCRIPTION:
URL:https://www.tappsislandgolf.com/event/seniors-club/2026-10-20/
CATEGORIES:leagues
END:VEVENT
BEGIN:VEVENT
DTSTART;TZID=America/Denver:20261022T080000
DTEND;TZID=America/Denver:20261022T090000
DTSTAMP:20260423T115731
CREATED:20250616T171055Z
LAST-MODIFIED:20250616T171059Z
UID:10000958-1792656000-1792659600@www.tappsislandgolf.com
SUMMARY:Senior's CLub
DESCRIPTION:
URL:https://www.tappsislandgolf.com/event/seniors-club-2/2026-10-22/
CATEGORIES:leagues
END:VEVENT
BEGIN:VEVENT
DTSTART;TZID=America/Denver:20261027T080000
DTEND;TZID=America/Denver:20261027T090000
DTSTAMP:20260423T115731
CREATED:20250616T170923Z
LAST-MODIFIED:20260211T162458Z
UID:10000698-1793088000-1793091600@www.tappsislandgolf.com
SUMMARY:Senior's Club
DESCRIPTION:
URL:https://www.tappsislandgolf.com/event/seniors-club/2026-10-27/
CATEGORIES:leagues
END:VEVENT
BEGIN:VEVENT
DTSTART;TZID=America/Denver:20261029T080000
DTEND;TZID=America/Denver:20261029T090000
DTSTAMP:20260423T115731
CREATED:20250616T171055Z
LAST-MODIFIED:20250616T171059Z
UID:10000959-1793260800-1793264400@www.tappsislandgolf.com
SUMMARY:Senior's CLub
DESCRIPTION:
URL:https://www.tappsislandgolf.com/event/seniors-club-2/2026-10-29/
CATEGORIES:leagues
END:VEVENT
END:VCALENDAR