BEGIN:VCALENDAR
VERSION:2.0
PRODID:-//Tapps Island Golf Course - ECPv6.15.18//NONSGML v1.0//EN
CALSCALE:GREGORIAN
METHOD:PUBLISH
X-ORIGINAL-URL:https://www.tappsislandgolf.com
X-WR-CALDESC:Events for Tapps Island Golf Course
REFRESH-INTERVAL;VALUE=DURATION:PT1H
X-Robots-Tag:noindex
X-PUBLISHED-TTL:PT1H
BEGIN:VTIMEZONE
TZID:America/Denver
BEGIN:DAYLIGHT
TZOFFSETFROM:-0700
TZOFFSETTO:-0600
TZNAME:MDT
DTSTART:20250309T090000
END:DAYLIGHT
BEGIN:STANDARD
TZOFFSETFROM:-0600
TZOFFSETTO:-0700
TZNAME:MST
DTSTART:20251102T080000
END:STANDARD
BEGIN:DAYLIGHT
TZOFFSETFROM:-0700
TZOFFSETTO:-0600
TZNAME:MDT
DTSTART:20260308T090000
END:DAYLIGHT
BEGIN:STANDARD
TZOFFSETFROM:-0600
TZOFFSETTO:-0700
TZNAME:MST
DTSTART:20261101T080000
END:STANDARD
BEGIN:DAYLIGHT
TZOFFSETFROM:-0700
TZOFFSETTO:-0600
TZNAME:MDT
DTSTART:20270314T090000
END:DAYLIGHT
BEGIN:STANDARD
TZOFFSETFROM:-0600
TZOFFSETTO:-0700
TZNAME:MST
DTSTART:20271107T080000
END:STANDARD
END:VTIMEZONE
BEGIN:VEVENT
DTSTART;TZID=America/Denver:20260716T170000
DTEND;TZID=America/Denver:20260716T200000
DTSTAMP:20260423T024310
CREATED:20260211T155752Z
LAST-MODIFIED:20260211T155754Z
UID:10001252-1784221200-1784232000@www.tappsislandgolf.com
SUMMARY:Ladies' Club Thursday PM
DESCRIPTION:
URL:https://www.tappsislandgolf.com/event/ladies-club-thursday-pm/2026-07-16/
END:VEVENT
BEGIN:VEVENT
DTSTART;TZID=America/Denver:20260723T170000
DTEND;TZID=America/Denver:20260723T200000
DTSTAMP:20260423T024310
CREATED:20260211T155752Z
LAST-MODIFIED:20260211T155754Z
UID:10001253-1784826000-1784836800@www.tappsislandgolf.com
SUMMARY:Ladies' Club Thursday PM
DESCRIPTION:
URL:https://www.tappsislandgolf.com/event/ladies-club-thursday-pm/2026-07-23/
END:VEVENT
BEGIN:VEVENT
DTSTART;TZID=America/Denver:20260730T170000
DTEND;TZID=America/Denver:20260730T200000
DTSTAMP:20260423T024310
CREATED:20260211T155752Z
LAST-MODIFIED:20260211T155754Z
UID:10001254-1785430800-1785441600@www.tappsislandgolf.com
SUMMARY:Ladies' Club Thursday PM
DESCRIPTION:
URL:https://www.tappsislandgolf.com/event/ladies-club-thursday-pm/2026-07-30/
END:VEVENT
BEGIN:VEVENT
DTSTART;TZID=America/Denver:20260806T170000
DTEND;TZID=America/Denver:20260806T200000
DTSTAMP:20260423T024310
CREATED:20260211T155752Z
LAST-MODIFIED:20260211T155754Z
UID:10001255-1786035600-1786046400@www.tappsislandgolf.com
SUMMARY:Ladies' Club Thursday PM
DESCRIPTION:
URL:https://www.tappsislandgolf.com/event/ladies-club-thursday-pm/2026-08-06/
END:VEVENT
BEGIN:VEVENT
DTSTART;TZID=America/Denver:20260820T170000
DTEND;TZID=America/Denver:20260820T200000
DTSTAMP:20260423T024310
CREATED:20260211T155752Z
LAST-MODIFIED:20260211T155754Z
UID:10001256-1787245200-1787256000@www.tappsislandgolf.com
SUMMARY:Ladies' Club Thursday PM
DESCRIPTION:
URL:https://www.tappsislandgolf.com/event/ladies-club-thursday-pm/2026-08-20/
END:VEVENT
BEGIN:VEVENT
DTSTART;TZID=America/Denver:20260827T170000
DTEND;TZID=America/Denver:20260827T200000
DTSTAMP:20260423T024310
CREATED:20260211T155752Z
LAST-MODIFIED:20260211T155754Z
UID:10001257-1787850000-1787860800@www.tappsislandgolf.com
SUMMARY:Ladies' Club Thursday PM
DESCRIPTION:
URL:https://www.tappsislandgolf.com/event/ladies-club-thursday-pm/2026-08-27/
END:VEVENT
BEGIN:VEVENT
DTSTART;TZID=America/Denver:20260903T170000
DTEND;TZID=America/Denver:20260903T200000
DTSTAMP:20260423T024310
CREATED:20260211T155752Z
LAST-MODIFIED:20260211T155754Z
UID:10001258-1788454800-1788465600@www.tappsislandgolf.com
SUMMARY:Ladies' Club Thursday PM
DESCRIPTION:
URL:https://www.tappsislandgolf.com/event/ladies-club-thursday-pm/2026-09-03/
END:VEVENT
BEGIN:VEVENT
DTSTART;TZID=America/Denver:20260910T170000
DTEND;TZID=America/Denver:20260910T200000
DTSTAMP:20260423T024310
CREATED:20260211T155752Z
LAST-MODIFIED:20260211T155754Z
UID:10001259-1789059600-1789070400@www.tappsislandgolf.com
SUMMARY:Ladies' Club Thursday PM
DESCRIPTION:
URL:https://www.tappsislandgolf.com/event/ladies-club-thursday-pm/2026-09-10/
END:VEVENT
END:VCALENDAR