BEGIN:VCALENDAR
VERSION:2.0
PRODID:-//Tapps Island Golf Course - ECPv6.15.18//NONSGML v1.0//EN
CALSCALE:GREGORIAN
METHOD:PUBLISH
X-WR-CALNAME:Tapps Island Golf Course
X-ORIGINAL-URL:https://www.tappsislandgolf.com
X-WR-CALDESC:Events for Tapps Island Golf Course
REFRESH-INTERVAL;VALUE=DURATION:PT1H
X-Robots-Tag:noindex
X-PUBLISHED-TTL:PT1H
BEGIN:VTIMEZONE
TZID:America/Denver
BEGIN:DAYLIGHT
TZOFFSETFROM:-0700
TZOFFSETTO:-0600
TZNAME:MDT
DTSTART:20250309T090000
END:DAYLIGHT
BEGIN:STANDARD
TZOFFSETFROM:-0600
TZOFFSETTO:-0700
TZNAME:MST
DTSTART:20251102T080000
END:STANDARD
BEGIN:DAYLIGHT
TZOFFSETFROM:-0700
TZOFFSETTO:-0600
TZNAME:MDT
DTSTART:20260308T090000
END:DAYLIGHT
BEGIN:STANDARD
TZOFFSETFROM:-0600
TZOFFSETTO:-0700
TZNAME:MST
DTSTART:20261101T080000
END:STANDARD
BEGIN:DAYLIGHT
TZOFFSETFROM:-0700
TZOFFSETTO:-0600
TZNAME:MDT
DTSTART:20270314T090000
END:DAYLIGHT
BEGIN:STANDARD
TZOFFSETFROM:-0600
TZOFFSETTO:-0700
TZNAME:MST
DTSTART:20271107T080000
END:STANDARD
END:VTIMEZONE
BEGIN:VEVENT
DTSTART;TZID=America/Denver:20260423T170000
DTEND;TZID=America/Denver:20260423T200000
DTSTAMP:20260423T023842
CREATED:20260211T155752Z
LAST-MODIFIED:20260211T155754Z
UID:10001240-1776963600-1776974400@www.tappsislandgolf.com
SUMMARY:Ladies' Club Thursday PM
DESCRIPTION:
URL:https://www.tappsislandgolf.com/event/ladies-club-thursday-pm/2026-04-23/
END:VEVENT
BEGIN:VEVENT
DTSTART;TZID=America/Denver:20260430T170000
DTEND;TZID=America/Denver:20260430T200000
DTSTAMP:20260423T023842
CREATED:20260211T155752Z
LAST-MODIFIED:20260211T155754Z
UID:10001241-1777568400-1777579200@www.tappsislandgolf.com
SUMMARY:Ladies' Club Thursday PM
DESCRIPTION:
URL:https://www.tappsislandgolf.com/event/ladies-club-thursday-pm/2026-04-30/
END:VEVENT
BEGIN:VEVENT
DTSTART;TZID=America/Denver:20260507T170000
DTEND;TZID=America/Denver:20260507T200000
DTSTAMP:20260423T023842
CREATED:20260211T155752Z
LAST-MODIFIED:20260211T155754Z
UID:10001242-1778173200-1778184000@www.tappsislandgolf.com
SUMMARY:Ladies' Club Thursday PM
DESCRIPTION:
URL:https://www.tappsislandgolf.com/event/ladies-club-thursday-pm/2026-05-07/
END:VEVENT
BEGIN:VEVENT
DTSTART;TZID=America/Denver:20260514T170000
DTEND;TZID=America/Denver:20260514T200000
DTSTAMP:20260423T023842
CREATED:20260211T155752Z
LAST-MODIFIED:20260211T155754Z
UID:10001243-1778778000-1778788800@www.tappsislandgolf.com
SUMMARY:Ladies' Club Thursday PM
DESCRIPTION:
URL:https://www.tappsislandgolf.com/event/ladies-club-thursday-pm/2026-05-14/
END:VEVENT
BEGIN:VEVENT
DTSTART;TZID=America/Denver:20260521T170000
DTEND;TZID=America/Denver:20260521T200000
DTSTAMP:20260423T023842
CREATED:20260211T155752Z
LAST-MODIFIED:20260211T155754Z
UID:10001244-1779382800-1779393600@www.tappsislandgolf.com
SUMMARY:Ladies' Club Thursday PM
DESCRIPTION:
URL:https://www.tappsislandgolf.com/event/ladies-club-thursday-pm/2026-05-21/
END:VEVENT
BEGIN:VEVENT
DTSTART;TZID=America/Denver:20260528T170000
DTEND;TZID=America/Denver:20260528T200000
DTSTAMP:20260423T023842
CREATED:20260211T155752Z
LAST-MODIFIED:20260211T155754Z
UID:10001245-1779987600-1779998400@www.tappsislandgolf.com
SUMMARY:Ladies' Club Thursday PM
DESCRIPTION:
URL:https://www.tappsislandgolf.com/event/ladies-club-thursday-pm/2026-05-28/
END:VEVENT
BEGIN:VEVENT
DTSTART;TZID=America/Denver:20260604T170000
DTEND;TZID=America/Denver:20260604T200000
DTSTAMP:20260423T023842
CREATED:20260211T155752Z
LAST-MODIFIED:20260211T155754Z
UID:10001246-1780592400-1780603200@www.tappsislandgolf.com
SUMMARY:Ladies' Club Thursday PM
DESCRIPTION:
URL:https://www.tappsislandgolf.com/event/ladies-club-thursday-pm/2026-06-04/
END:VEVENT
BEGIN:VEVENT
DTSTART;TZID=America/Denver:20260611T170000
DTEND;TZID=America/Denver:20260611T200000
DTSTAMP:20260423T023842
CREATED:20260211T155752Z
LAST-MODIFIED:20260211T155754Z
UID:10001247-1781197200-1781208000@www.tappsislandgolf.com
SUMMARY:Ladies' Club Thursday PM
DESCRIPTION:
URL:https://www.tappsislandgolf.com/event/ladies-club-thursday-pm/2026-06-11/
END:VEVENT
BEGIN:VEVENT
DTSTART;TZID=America/Denver:20260618T170000
DTEND;TZID=America/Denver:20260618T200000
DTSTAMP:20260423T023842
CREATED:20260211T155752Z
LAST-MODIFIED:20260211T155754Z
UID:10001248-1781802000-1781812800@www.tappsislandgolf.com
SUMMARY:Ladies' Club Thursday PM
DESCRIPTION:
URL:https://www.tappsislandgolf.com/event/ladies-club-thursday-pm/2026-06-18/
END:VEVENT
BEGIN:VEVENT
DTSTART;TZID=America/Denver:20260625T170000
DTEND;TZID=America/Denver:20260625T200000
DTSTAMP:20260423T023842
CREATED:20260211T155752Z
LAST-MODIFIED:20260211T155754Z
UID:10001249-1782406800-1782417600@www.tappsislandgolf.com
SUMMARY:Ladies' Club Thursday PM
DESCRIPTION:
URL:https://www.tappsislandgolf.com/event/ladies-club-thursday-pm/2026-06-25/
END:VEVENT
BEGIN:VEVENT
DTSTART;TZID=America/Denver:20260702T170000
DTEND;TZID=America/Denver:20260702T200000
DTSTAMP:20260423T023842
CREATED:20260211T155752Z
LAST-MODIFIED:20260211T155754Z
UID:10001250-1783011600-1783022400@www.tappsislandgolf.com
SUMMARY:Ladies' Club Thursday PM
DESCRIPTION:
URL:https://www.tappsislandgolf.com/event/ladies-club-thursday-pm/2026-07-02/
END:VEVENT
BEGIN:VEVENT
DTSTART;TZID=America/Denver:20260709T170000
DTEND;TZID=America/Denver:20260709T200000
DTSTAMP:20260423T023842
CREATED:20260211T155752Z
LAST-MODIFIED:20260211T155754Z
UID:10001251-1783616400-1783627200@www.tappsislandgolf.com
SUMMARY:Ladies' Club Thursday PM
DESCRIPTION:
URL:https://www.tappsislandgolf.com/event/ladies-club-thursday-pm/2026-07-09/
END:VEVENT
BEGIN:VEVENT
DTSTART;TZID=America/Denver:20260716T170000
DTEND;TZID=America/Denver:20260716T200000
DTSTAMP:20260423T023842
CREATED:20260211T155752Z
LAST-MODIFIED:20260211T155754Z
UID:10001252-1784221200-1784232000@www.tappsislandgolf.com
SUMMARY:Ladies' Club Thursday PM
DESCRIPTION:
URL:https://www.tappsislandgolf.com/event/ladies-club-thursday-pm/2026-07-16/
END:VEVENT
BEGIN:VEVENT
DTSTART;TZID=America/Denver:20260723T170000
DTEND;TZID=America/Denver:20260723T200000
DTSTAMP:20260423T023842
CREATED:20260211T155752Z
LAST-MODIFIED:20260211T155754Z
UID:10001253-1784826000-1784836800@www.tappsislandgolf.com
SUMMARY:Ladies' Club Thursday PM
DESCRIPTION:
URL:https://www.tappsislandgolf.com/event/ladies-club-thursday-pm/2026-07-23/
END:VEVENT
BEGIN:VEVENT
DTSTART;TZID=America/Denver:20260730T170000
DTEND;TZID=America/Denver:20260730T200000
DTSTAMP:20260423T023842
CREATED:20260211T155752Z
LAST-MODIFIED:20260211T155754Z
UID:10001254-1785430800-1785441600@www.tappsislandgolf.com
SUMMARY:Ladies' Club Thursday PM
DESCRIPTION:
URL:https://www.tappsislandgolf.com/event/ladies-club-thursday-pm/2026-07-30/
END:VEVENT
BEGIN:VEVENT
DTSTART;TZID=America/Denver:20260806T170000
DTEND;TZID=America/Denver:20260806T200000
DTSTAMP:20260423T023842
CREATED:20260211T155752Z
LAST-MODIFIED:20260211T155754Z
UID:10001255-1786035600-1786046400@www.tappsislandgolf.com
SUMMARY:Ladies' Club Thursday PM
DESCRIPTION:
URL:https://www.tappsislandgolf.com/event/ladies-club-thursday-pm/2026-08-06/
END:VEVENT
BEGIN:VEVENT
DTSTART;TZID=America/Denver:20260820T170000
DTEND;TZID=America/Denver:20260820T200000
DTSTAMP:20260423T023842
CREATED:20260211T155752Z
LAST-MODIFIED:20260211T155754Z
UID:10001256-1787245200-1787256000@www.tappsislandgolf.com
SUMMARY:Ladies' Club Thursday PM
DESCRIPTION:
URL:https://www.tappsislandgolf.com/event/ladies-club-thursday-pm/2026-08-20/
END:VEVENT
BEGIN:VEVENT
DTSTART;TZID=America/Denver:20260827T170000
DTEND;TZID=America/Denver:20260827T200000
DTSTAMP:20260423T023842
CREATED:20260211T155752Z
LAST-MODIFIED:20260211T155754Z
UID:10001257-1787850000-1787860800@www.tappsislandgolf.com
SUMMARY:Ladies' Club Thursday PM
DESCRIPTION:
URL:https://www.tappsislandgolf.com/event/ladies-club-thursday-pm/2026-08-27/
END:VEVENT
BEGIN:VEVENT
DTSTART;TZID=America/Denver:20260903T170000
DTEND;TZID=America/Denver:20260903T200000
DTSTAMP:20260423T023842
CREATED:20260211T155752Z
LAST-MODIFIED:20260211T155754Z
UID:10001258-1788454800-1788465600@www.tappsislandgolf.com
SUMMARY:Ladies' Club Thursday PM
DESCRIPTION:
URL:https://www.tappsislandgolf.com/event/ladies-club-thursday-pm/2026-09-03/
END:VEVENT
BEGIN:VEVENT
DTSTART;TZID=America/Denver:20260910T170000
DTEND;TZID=America/Denver:20260910T200000
DTSTAMP:20260423T023842
CREATED:20260211T155752Z
LAST-MODIFIED:20260211T155754Z
UID:10001259-1789059600-1789070400@www.tappsislandgolf.com
SUMMARY:Ladies' Club Thursday PM
DESCRIPTION:
URL:https://www.tappsislandgolf.com/event/ladies-club-thursday-pm/2026-09-10/
END:VEVENT
END:VCALENDAR