BEGIN:VCALENDAR
VERSION:2.0
PRODID:-//Tapps Island Golf Course - ECPv6.15.18//NONSGML v1.0//EN
CALSCALE:GREGORIAN
METHOD:PUBLISH
X-WR-CALNAME:Tapps Island Golf Course
X-ORIGINAL-URL:https://www.tappsislandgolf.com
X-WR-CALDESC:Events for Tapps Island Golf Course
REFRESH-INTERVAL;VALUE=DURATION:PT1H
X-Robots-Tag:noindex
X-PUBLISHED-TTL:PT1H
BEGIN:VTIMEZONE
TZID:America/Denver
BEGIN:DAYLIGHT
TZOFFSETFROM:-0700
TZOFFSETTO:-0600
TZNAME:MDT
DTSTART:20260308T090000
END:DAYLIGHT
BEGIN:STANDARD
TZOFFSETFROM:-0600
TZOFFSETTO:-0700
TZNAME:MST
DTSTART:20261101T080000
END:STANDARD
BEGIN:DAYLIGHT
TZOFFSETFROM:-0700
TZOFFSETTO:-0600
TZNAME:MDT
DTSTART:20270314T090000
END:DAYLIGHT
BEGIN:STANDARD
TZOFFSETFROM:-0600
TZOFFSETTO:-0700
TZNAME:MST
DTSTART:20271107T080000
END:STANDARD
BEGIN:DAYLIGHT
TZOFFSETFROM:-0700
TZOFFSETTO:-0600
TZNAME:MDT
DTSTART:20280312T090000
END:DAYLIGHT
BEGIN:STANDARD
TZOFFSETFROM:-0600
TZOFFSETTO:-0700
TZNAME:MST
DTSTART:20281105T080000
END:STANDARD
END:VTIMEZONE
BEGIN:VEVENT
DTSTART;TZID=America/Denver:20270302T080000
DTEND;TZID=America/Denver:20270302T090000
DTSTAMP:20260423T102822
CREATED:20250616T170923Z
LAST-MODIFIED:20260211T162458Z
UID:10000716-1803974400-1803978000@www.tappsislandgolf.com
SUMMARY:Senior's Club
DESCRIPTION:
URL:https://www.tappsislandgolf.com/event/seniors-club/2027-03-02/
CATEGORIES:leagues
END:VEVENT
BEGIN:VEVENT
DTSTART;TZID=America/Denver:20270304T080000
DTEND;TZID=America/Denver:20270304T090000
DTSTAMP:20260423T102822
CREATED:20250616T171055Z
LAST-MODIFIED:20250616T171059Z
UID:10000977-1804147200-1804150800@www.tappsislandgolf.com
SUMMARY:Senior's CLub
DESCRIPTION:
URL:https://www.tappsislandgolf.com/event/seniors-club-2/2027-03-04/
CATEGORIES:leagues
END:VEVENT
BEGIN:VEVENT
DTSTART;TZID=America/Denver:20270309T080000
DTEND;TZID=America/Denver:20270309T090000
DTSTAMP:20260423T102822
CREATED:20250616T170923Z
LAST-MODIFIED:20260211T162458Z
UID:10000717-1804579200-1804582800@www.tappsislandgolf.com
SUMMARY:Senior's Club
DESCRIPTION:
URL:https://www.tappsislandgolf.com/event/seniors-club/2027-03-09/
CATEGORIES:leagues
END:VEVENT
BEGIN:VEVENT
DTSTART;TZID=America/Denver:20270311T080000
DTEND;TZID=America/Denver:20270311T090000
DTSTAMP:20260423T102822
CREATED:20250616T171055Z
LAST-MODIFIED:20250616T171059Z
UID:10000978-1804752000-1804755600@www.tappsislandgolf.com
SUMMARY:Senior's CLub
DESCRIPTION:
URL:https://www.tappsislandgolf.com/event/seniors-club-2/2027-03-11/
CATEGORIES:leagues
END:VEVENT
BEGIN:VEVENT
DTSTART;TZID=America/Denver:20270316T080000
DTEND;TZID=America/Denver:20270316T090000
DTSTAMP:20260423T102822
CREATED:20250616T170923Z
LAST-MODIFIED:20260211T162458Z
UID:10000718-1805184000-1805187600@www.tappsislandgolf.com
SUMMARY:Senior's Club
DESCRIPTION:
URL:https://www.tappsislandgolf.com/event/seniors-club/2027-03-16/
CATEGORIES:leagues
END:VEVENT
BEGIN:VEVENT
DTSTART;TZID=America/Denver:20270318T080000
DTEND;TZID=America/Denver:20270318T090000
DTSTAMP:20260423T102822
CREATED:20250616T171055Z
LAST-MODIFIED:20250616T171059Z
UID:10000979-1805356800-1805360400@www.tappsislandgolf.com
SUMMARY:Senior's CLub
DESCRIPTION:
URL:https://www.tappsislandgolf.com/event/seniors-club-2/2027-03-18/
CATEGORIES:leagues
END:VEVENT
BEGIN:VEVENT
DTSTART;TZID=America/Denver:20270323T080000
DTEND;TZID=America/Denver:20270323T090000
DTSTAMP:20260423T102822
CREATED:20250616T170923Z
LAST-MODIFIED:20260211T162458Z
UID:10000719-1805788800-1805792400@www.tappsislandgolf.com
SUMMARY:Senior's Club
DESCRIPTION:
URL:https://www.tappsislandgolf.com/event/seniors-club/2027-03-23/
CATEGORIES:leagues
END:VEVENT
BEGIN:VEVENT
DTSTART;TZID=America/Denver:20270325T080000
DTEND;TZID=America/Denver:20270325T090000
DTSTAMP:20260423T102822
CREATED:20250616T171055Z
LAST-MODIFIED:20250616T171059Z
UID:10000980-1805961600-1805965200@www.tappsislandgolf.com
SUMMARY:Senior's CLub
DESCRIPTION:
URL:https://www.tappsislandgolf.com/event/seniors-club-2/2027-03-25/
CATEGORIES:leagues
END:VEVENT
BEGIN:VEVENT
DTSTART;TZID=America/Denver:20270330T080000
DTEND;TZID=America/Denver:20270330T090000
DTSTAMP:20260423T102822
CREATED:20250616T170923Z
LAST-MODIFIED:20260211T162458Z
UID:10000720-1806393600-1806397200@www.tappsislandgolf.com
SUMMARY:Senior's Club
DESCRIPTION:
URL:https://www.tappsislandgolf.com/event/seniors-club/2027-03-30/
CATEGORIES:leagues
END:VEVENT
END:VCALENDAR