BEGIN:VCALENDAR
VERSION:2.0
PRODID:-//Tapps Island Golf Course - ECPv6.15.18//NONSGML v1.0//EN
CALSCALE:GREGORIAN
METHOD:PUBLISH
X-WR-CALNAME:Tapps Island Golf Course
X-ORIGINAL-URL:https://www.tappsislandgolf.com
X-WR-CALDESC:Events for Tapps Island Golf Course
REFRESH-INTERVAL;VALUE=DURATION:PT1H
X-Robots-Tag:noindex
X-PUBLISHED-TTL:PT1H
BEGIN:VTIMEZONE
TZID:America/Denver
BEGIN:DAYLIGHT
TZOFFSETFROM:-0700
TZOFFSETTO:-0600
TZNAME:MDT
DTSTART:20260308T090000
END:DAYLIGHT
BEGIN:STANDARD
TZOFFSETFROM:-0600
TZOFFSETTO:-0700
TZNAME:MST
DTSTART:20261101T080000
END:STANDARD
BEGIN:DAYLIGHT
TZOFFSETFROM:-0700
TZOFFSETTO:-0600
TZNAME:MDT
DTSTART:20270314T090000
END:DAYLIGHT
BEGIN:STANDARD
TZOFFSETFROM:-0600
TZOFFSETTO:-0700
TZNAME:MST
DTSTART:20271107T080000
END:STANDARD
BEGIN:DAYLIGHT
TZOFFSETFROM:-0700
TZOFFSETTO:-0600
TZNAME:MDT
DTSTART:20280312T090000
END:DAYLIGHT
BEGIN:STANDARD
TZOFFSETFROM:-0600
TZOFFSETTO:-0700
TZNAME:MST
DTSTART:20281105T080000
END:STANDARD
END:VTIMEZONE
BEGIN:VEVENT
DTSTART;TZID=America/Denver:20270202T080000
DTEND;TZID=America/Denver:20270202T090000
DTSTAMP:20260423T084745
CREATED:20250616T170923Z
LAST-MODIFIED:20260211T162458Z
UID:10000712-1801555200-1801558800@www.tappsislandgolf.com
SUMMARY:Senior's Club
DESCRIPTION:
URL:https://www.tappsislandgolf.com/event/seniors-club/2027-02-02/
CATEGORIES:leagues
END:VEVENT
BEGIN:VEVENT
DTSTART;TZID=America/Denver:20270204T080000
DTEND;TZID=America/Denver:20270204T090000
DTSTAMP:20260423T084745
CREATED:20250616T171055Z
LAST-MODIFIED:20250616T171059Z
UID:10000973-1801728000-1801731600@www.tappsislandgolf.com
SUMMARY:Senior's CLub
DESCRIPTION:
URL:https://www.tappsislandgolf.com/event/seniors-club-2/2027-02-04/
CATEGORIES:leagues
END:VEVENT
BEGIN:VEVENT
DTSTART;TZID=America/Denver:20270209T080000
DTEND;TZID=America/Denver:20270209T090000
DTSTAMP:20260423T084745
CREATED:20250616T170923Z
LAST-MODIFIED:20260211T162458Z
UID:10000713-1802160000-1802163600@www.tappsislandgolf.com
SUMMARY:Senior's Club
DESCRIPTION:
URL:https://www.tappsislandgolf.com/event/seniors-club/2027-02-09/
CATEGORIES:leagues
END:VEVENT
BEGIN:VEVENT
DTSTART;TZID=America/Denver:20270211T080000
DTEND;TZID=America/Denver:20270211T090000
DTSTAMP:20260423T084745
CREATED:20250616T171055Z
LAST-MODIFIED:20250616T171059Z
UID:10000974-1802332800-1802336400@www.tappsislandgolf.com
SUMMARY:Senior's CLub
DESCRIPTION:
URL:https://www.tappsislandgolf.com/event/seniors-club-2/2027-02-11/
CATEGORIES:leagues
END:VEVENT
BEGIN:VEVENT
DTSTART;TZID=America/Denver:20270216T080000
DTEND;TZID=America/Denver:20270216T090000
DTSTAMP:20260423T084745
CREATED:20250616T170923Z
LAST-MODIFIED:20260211T162458Z
UID:10000714-1802764800-1802768400@www.tappsislandgolf.com
SUMMARY:Senior's Club
DESCRIPTION:
URL:https://www.tappsislandgolf.com/event/seniors-club/2027-02-16/
CATEGORIES:leagues
END:VEVENT
BEGIN:VEVENT
DTSTART;TZID=America/Denver:20270218T080000
DTEND;TZID=America/Denver:20270218T090000
DTSTAMP:20260423T084745
CREATED:20250616T171055Z
LAST-MODIFIED:20250616T171059Z
UID:10000975-1802937600-1802941200@www.tappsislandgolf.com
SUMMARY:Senior's CLub
DESCRIPTION:
URL:https://www.tappsislandgolf.com/event/seniors-club-2/2027-02-18/
CATEGORIES:leagues
END:VEVENT
BEGIN:VEVENT
DTSTART;TZID=America/Denver:20270223T080000
DTEND;TZID=America/Denver:20270223T090000
DTSTAMP:20260423T084745
CREATED:20250616T170923Z
LAST-MODIFIED:20260211T162458Z
UID:10000715-1803369600-1803373200@www.tappsislandgolf.com
SUMMARY:Senior's Club
DESCRIPTION:
URL:https://www.tappsislandgolf.com/event/seniors-club/2027-02-23/
CATEGORIES:leagues
END:VEVENT
BEGIN:VEVENT
DTSTART;TZID=America/Denver:20270225T080000
DTEND;TZID=America/Denver:20270225T090000
DTSTAMP:20260423T084745
CREATED:20250616T171055Z
LAST-MODIFIED:20250616T171059Z
UID:10000976-1803542400-1803546000@www.tappsislandgolf.com
SUMMARY:Senior's CLub
DESCRIPTION:
URL:https://www.tappsislandgolf.com/event/seniors-club-2/2027-02-25/
CATEGORIES:leagues
END:VEVENT
END:VCALENDAR