BEGIN:VCALENDAR
VERSION:2.0
PRODID:-//Tapps Island Golf Course - ECPv6.15.18//NONSGML v1.0//EN
CALSCALE:GREGORIAN
METHOD:PUBLISH
X-ORIGINAL-URL:https://www.tappsislandgolf.com
X-WR-CALDESC:Events for Tapps Island Golf Course
REFRESH-INTERVAL;VALUE=DURATION:PT1H
X-Robots-Tag:noindex
X-PUBLISHED-TTL:PT1H
BEGIN:VTIMEZONE
TZID:America/Denver
BEGIN:DAYLIGHT
TZOFFSETFROM:-0700
TZOFFSETTO:-0600
TZNAME:MDT
DTSTART:20260308T090000
END:DAYLIGHT
BEGIN:STANDARD
TZOFFSETFROM:-0600
TZOFFSETTO:-0700
TZNAME:MST
DTSTART:20261101T080000
END:STANDARD
BEGIN:DAYLIGHT
TZOFFSETFROM:-0700
TZOFFSETTO:-0600
TZNAME:MDT
DTSTART:20270314T090000
END:DAYLIGHT
BEGIN:STANDARD
TZOFFSETFROM:-0600
TZOFFSETTO:-0700
TZNAME:MST
DTSTART:20271107T080000
END:STANDARD
BEGIN:DAYLIGHT
TZOFFSETFROM:-0700
TZOFFSETTO:-0600
TZNAME:MDT
DTSTART:20280312T090000
END:DAYLIGHT
BEGIN:STANDARD
TZOFFSETFROM:-0600
TZOFFSETTO:-0700
TZNAME:MST
DTSTART:20281105T080000
END:STANDARD
END:VTIMEZONE
BEGIN:VEVENT
DTSTART;TZID=America/Denver:20270105T080000
DTEND;TZID=America/Denver:20270105T090000
DTSTAMP:20260423T065506
CREATED:20250616T170923Z
LAST-MODIFIED:20260211T162458Z
UID:10000708-1799136000-1799139600@www.tappsislandgolf.com
SUMMARY:Senior's Club
DESCRIPTION:
URL:https://www.tappsislandgolf.com/event/seniors-club/2027-01-05/
CATEGORIES:leagues
END:VEVENT
BEGIN:VEVENT
DTSTART;TZID=America/Denver:20270107T080000
DTEND;TZID=America/Denver:20270107T090000
DTSTAMP:20260423T065506
CREATED:20250616T171055Z
LAST-MODIFIED:20250616T171059Z
UID:10000969-1799308800-1799312400@www.tappsislandgolf.com
SUMMARY:Senior's CLub
DESCRIPTION:
URL:https://www.tappsislandgolf.com/event/seniors-club-2/2027-01-07/
CATEGORIES:leagues
END:VEVENT
BEGIN:VEVENT
DTSTART;TZID=America/Denver:20270112T080000
DTEND;TZID=America/Denver:20270112T090000
DTSTAMP:20260423T065506
CREATED:20250616T170923Z
LAST-MODIFIED:20260211T162458Z
UID:10000709-1799740800-1799744400@www.tappsislandgolf.com
SUMMARY:Senior's Club
DESCRIPTION:
URL:https://www.tappsislandgolf.com/event/seniors-club/2027-01-12/
CATEGORIES:leagues
END:VEVENT
BEGIN:VEVENT
DTSTART;TZID=America/Denver:20270114T080000
DTEND;TZID=America/Denver:20270114T090000
DTSTAMP:20260423T065506
CREATED:20250616T171055Z
LAST-MODIFIED:20250616T171059Z
UID:10000970-1799913600-1799917200@www.tappsislandgolf.com
SUMMARY:Senior's CLub
DESCRIPTION:
URL:https://www.tappsislandgolf.com/event/seniors-club-2/2027-01-14/
CATEGORIES:leagues
END:VEVENT
BEGIN:VEVENT
DTSTART;TZID=America/Denver:20270119T080000
DTEND;TZID=America/Denver:20270119T090000
DTSTAMP:20260423T065506
CREATED:20250616T170923Z
LAST-MODIFIED:20260211T162458Z
UID:10000710-1800345600-1800349200@www.tappsislandgolf.com
SUMMARY:Senior's Club
DESCRIPTION:
URL:https://www.tappsislandgolf.com/event/seniors-club/2027-01-19/
CATEGORIES:leagues
END:VEVENT
BEGIN:VEVENT
DTSTART;TZID=America/Denver:20270121T080000
DTEND;TZID=America/Denver:20270121T090000
DTSTAMP:20260423T065506
CREATED:20250616T171055Z
LAST-MODIFIED:20250616T171059Z
UID:10000971-1800518400-1800522000@www.tappsislandgolf.com
SUMMARY:Senior's CLub
DESCRIPTION:
URL:https://www.tappsislandgolf.com/event/seniors-club-2/2027-01-21/
CATEGORIES:leagues
END:VEVENT
BEGIN:VEVENT
DTSTART;TZID=America/Denver:20270126T080000
DTEND;TZID=America/Denver:20270126T090000
DTSTAMP:20260423T065506
CREATED:20250616T170923Z
LAST-MODIFIED:20260211T162458Z
UID:10000711-1800950400-1800954000@www.tappsislandgolf.com
SUMMARY:Senior's Club
DESCRIPTION:
URL:https://www.tappsislandgolf.com/event/seniors-club/2027-01-26/
CATEGORIES:leagues
END:VEVENT
BEGIN:VEVENT
DTSTART;TZID=America/Denver:20270128T080000
DTEND;TZID=America/Denver:20270128T090000
DTSTAMP:20260423T065506
CREATED:20250616T171055Z
LAST-MODIFIED:20250616T171059Z
UID:10000972-1801123200-1801126800@www.tappsislandgolf.com
SUMMARY:Senior's CLub
DESCRIPTION:
URL:https://www.tappsislandgolf.com/event/seniors-club-2/2027-01-28/
CATEGORIES:leagues
END:VEVENT
END:VCALENDAR