BEGIN:VCALENDAR
VERSION:2.0
PRODID:-//Tapps Island Golf Course - ECPv6.15.18//NONSGML v1.0//EN
CALSCALE:GREGORIAN
METHOD:PUBLISH
X-WR-CALNAME:Tapps Island Golf Course
X-ORIGINAL-URL:https://www.tappsislandgolf.com
X-WR-CALDESC:Events for Tapps Island Golf Course
REFRESH-INTERVAL;VALUE=DURATION:PT1H
X-Robots-Tag:noindex
X-PUBLISHED-TTL:PT1H
BEGIN:VTIMEZONE
TZID:America/Denver
BEGIN:DAYLIGHT
TZOFFSETFROM:-0700
TZOFFSETTO:-0600
TZNAME:MDT
DTSTART:20250309T090000
END:DAYLIGHT
BEGIN:STANDARD
TZOFFSETFROM:-0600
TZOFFSETTO:-0700
TZNAME:MST
DTSTART:20251102T080000
END:STANDARD
BEGIN:DAYLIGHT
TZOFFSETFROM:-0700
TZOFFSETTO:-0600
TZNAME:MDT
DTSTART:20260308T090000
END:DAYLIGHT
BEGIN:STANDARD
TZOFFSETFROM:-0600
TZOFFSETTO:-0700
TZNAME:MST
DTSTART:20261101T080000
END:STANDARD
BEGIN:DAYLIGHT
TZOFFSETFROM:-0700
TZOFFSETTO:-0600
TZNAME:MDT
DTSTART:20270314T090000
END:DAYLIGHT
BEGIN:STANDARD
TZOFFSETFROM:-0600
TZOFFSETTO:-0700
TZNAME:MST
DTSTART:20271107T080000
END:STANDARD
END:VTIMEZONE
BEGIN:VEVENT
DTSTART;TZID=America/Denver:20261103T080000
DTEND;TZID=America/Denver:20261103T090000
DTSTAMP:20260423T040257
CREATED:20250616T170923Z
LAST-MODIFIED:20260211T162458Z
UID:10000699-1793692800-1793696400@www.tappsislandgolf.com
SUMMARY:Senior's Club
DESCRIPTION:
URL:https://www.tappsislandgolf.com/event/seniors-club/2026-11-03/
CATEGORIES:leagues
END:VEVENT
BEGIN:VEVENT
DTSTART;TZID=America/Denver:20261105T080000
DTEND;TZID=America/Denver:20261105T090000
DTSTAMP:20260423T040257
CREATED:20250616T171055Z
LAST-MODIFIED:20250616T171059Z
UID:10000960-1793865600-1793869200@www.tappsislandgolf.com
SUMMARY:Senior's CLub
DESCRIPTION:
URL:https://www.tappsislandgolf.com/event/seniors-club-2/2026-11-05/
CATEGORIES:leagues
END:VEVENT
BEGIN:VEVENT
DTSTART;TZID=America/Denver:20261110T080000
DTEND;TZID=America/Denver:20261110T090000
DTSTAMP:20260423T040257
CREATED:20250616T170923Z
LAST-MODIFIED:20260211T162458Z
UID:10000700-1794297600-1794301200@www.tappsislandgolf.com
SUMMARY:Senior's Club
DESCRIPTION:
URL:https://www.tappsislandgolf.com/event/seniors-club/2026-11-10/
CATEGORIES:leagues
END:VEVENT
BEGIN:VEVENT
DTSTART;TZID=America/Denver:20261112T080000
DTEND;TZID=America/Denver:20261112T090000
DTSTAMP:20260423T040257
CREATED:20250616T171055Z
LAST-MODIFIED:20250616T171059Z
UID:10000961-1794470400-1794474000@www.tappsislandgolf.com
SUMMARY:Senior's CLub
DESCRIPTION:
URL:https://www.tappsislandgolf.com/event/seniors-club-2/2026-11-12/
CATEGORIES:leagues
END:VEVENT
BEGIN:VEVENT
DTSTART;TZID=America/Denver:20261117T080000
DTEND;TZID=America/Denver:20261117T090000
DTSTAMP:20260423T040257
CREATED:20250616T170923Z
LAST-MODIFIED:20260211T162458Z
UID:10000701-1794902400-1794906000@www.tappsislandgolf.com
SUMMARY:Senior's Club
DESCRIPTION:
URL:https://www.tappsislandgolf.com/event/seniors-club/2026-11-17/
CATEGORIES:leagues
END:VEVENT
BEGIN:VEVENT
DTSTART;TZID=America/Denver:20261119T080000
DTEND;TZID=America/Denver:20261119T090000
DTSTAMP:20260423T040257
CREATED:20250616T171055Z
LAST-MODIFIED:20250616T171059Z
UID:10000962-1795075200-1795078800@www.tappsislandgolf.com
SUMMARY:Senior's CLub
DESCRIPTION:
URL:https://www.tappsislandgolf.com/event/seniors-club-2/2026-11-19/
CATEGORIES:leagues
END:VEVENT
BEGIN:VEVENT
DTSTART;TZID=America/Denver:20261124T080000
DTEND;TZID=America/Denver:20261124T090000
DTSTAMP:20260423T040257
CREATED:20250616T170923Z
LAST-MODIFIED:20260211T162458Z
UID:10000702-1795507200-1795510800@www.tappsislandgolf.com
SUMMARY:Senior's Club
DESCRIPTION:
URL:https://www.tappsislandgolf.com/event/seniors-club/2026-11-24/
CATEGORIES:leagues
END:VEVENT
BEGIN:VEVENT
DTSTART;TZID=America/Denver:20261126T080000
DTEND;TZID=America/Denver:20261126T090000
DTSTAMP:20260423T040257
CREATED:20250616T171055Z
LAST-MODIFIED:20250616T171059Z
UID:10000963-1795680000-1795683600@www.tappsislandgolf.com
SUMMARY:Senior's CLub
DESCRIPTION:
URL:https://www.tappsislandgolf.com/event/seniors-club-2/2026-11-26/
CATEGORIES:leagues
END:VEVENT
END:VCALENDAR