BEGIN:VCALENDAR
VERSION:2.0
PRODID:-//Tapps Island Golf Course - ECPv6.15.18//NONSGML v1.0//EN
CALSCALE:GREGORIAN
METHOD:PUBLISH
X-WR-CALNAME:Tapps Island Golf Course
X-ORIGINAL-URL:https://www.tappsislandgolf.com
X-WR-CALDESC:Events for Tapps Island Golf Course
REFRESH-INTERVAL;VALUE=DURATION:PT1H
X-Robots-Tag:noindex
X-PUBLISHED-TTL:PT1H
BEGIN:VTIMEZONE
TZID:America/Denver
BEGIN:DAYLIGHT
TZOFFSETFROM:-0700
TZOFFSETTO:-0600
TZNAME:MDT
DTSTART:20250309T090000
END:DAYLIGHT
BEGIN:STANDARD
TZOFFSETFROM:-0600
TZOFFSETTO:-0700
TZNAME:MST
DTSTART:20251102T080000
END:STANDARD
BEGIN:DAYLIGHT
TZOFFSETFROM:-0700
TZOFFSETTO:-0600
TZNAME:MDT
DTSTART:20260308T090000
END:DAYLIGHT
BEGIN:STANDARD
TZOFFSETFROM:-0600
TZOFFSETTO:-0700
TZNAME:MST
DTSTART:20261101T080000
END:STANDARD
BEGIN:DAYLIGHT
TZOFFSETFROM:-0700
TZOFFSETTO:-0600
TZNAME:MDT
DTSTART:20270314T090000
END:DAYLIGHT
BEGIN:STANDARD
TZOFFSETFROM:-0600
TZOFFSETTO:-0700
TZNAME:MST
DTSTART:20271107T080000
END:STANDARD
END:VTIMEZONE
BEGIN:VEVENT
DTSTART;TZID=America/Denver:20260804T080000
DTEND;TZID=America/Denver:20260804T090000
DTSTAMP:20260421T043735
CREATED:20250616T170923Z
LAST-MODIFIED:20260211T162458Z
UID:10000686-1785830400-1785834000@www.tappsislandgolf.com
SUMMARY:Senior's Club
DESCRIPTION:
URL:https://www.tappsislandgolf.com/event/seniors-club/2026-08-04/
CATEGORIES:leagues
END:VEVENT
BEGIN:VEVENT
DTSTART;TZID=America/Denver:20260806T080000
DTEND;TZID=America/Denver:20260806T090000
DTSTAMP:20260421T043735
CREATED:20250616T171055Z
LAST-MODIFIED:20250616T171059Z
UID:10000947-1786003200-1786006800@www.tappsislandgolf.com
SUMMARY:Senior's CLub
DESCRIPTION:
URL:https://www.tappsislandgolf.com/event/seniors-club-2/2026-08-06/
CATEGORIES:leagues
END:VEVENT
BEGIN:VEVENT
DTSTART;TZID=America/Denver:20260811T080000
DTEND;TZID=America/Denver:20260811T090000
DTSTAMP:20260421T043735
CREATED:20250616T170923Z
LAST-MODIFIED:20260211T162458Z
UID:10000687-1786435200-1786438800@www.tappsislandgolf.com
SUMMARY:Senior's Club
DESCRIPTION:
URL:https://www.tappsislandgolf.com/event/seniors-club/2026-08-11/
CATEGORIES:leagues
END:VEVENT
BEGIN:VEVENT
DTSTART;TZID=America/Denver:20260813T080000
DTEND;TZID=America/Denver:20260813T090000
DTSTAMP:20260421T043735
CREATED:20250616T171055Z
LAST-MODIFIED:20250616T171059Z
UID:10000948-1786608000-1786611600@www.tappsislandgolf.com
SUMMARY:Senior's CLub
DESCRIPTION:
URL:https://www.tappsislandgolf.com/event/seniors-club-2/2026-08-13/
CATEGORIES:leagues
END:VEVENT
BEGIN:VEVENT
DTSTART;TZID=America/Denver:20260818T080000
DTEND;TZID=America/Denver:20260818T090000
DTSTAMP:20260421T043735
CREATED:20250616T170923Z
LAST-MODIFIED:20260211T162458Z
UID:10000688-1787040000-1787043600@www.tappsislandgolf.com
SUMMARY:Senior's Club
DESCRIPTION:
URL:https://www.tappsislandgolf.com/event/seniors-club/2026-08-18/
CATEGORIES:leagues
END:VEVENT
BEGIN:VEVENT
DTSTART;TZID=America/Denver:20260820T080000
DTEND;TZID=America/Denver:20260820T090000
DTSTAMP:20260421T043735
CREATED:20250616T171055Z
LAST-MODIFIED:20250616T171059Z
UID:10000949-1787212800-1787216400@www.tappsislandgolf.com
SUMMARY:Senior's CLub
DESCRIPTION:
URL:https://www.tappsislandgolf.com/event/seniors-club-2/2026-08-20/
CATEGORIES:leagues
END:VEVENT
BEGIN:VEVENT
DTSTART;TZID=America/Denver:20260825T080000
DTEND;TZID=America/Denver:20260825T090000
DTSTAMP:20260421T043735
CREATED:20250616T170923Z
LAST-MODIFIED:20260211T162458Z
UID:10000689-1787644800-1787648400@www.tappsislandgolf.com
SUMMARY:Senior's Club
DESCRIPTION:
URL:https://www.tappsislandgolf.com/event/seniors-club/2026-08-25/
CATEGORIES:leagues
END:VEVENT
BEGIN:VEVENT
DTSTART;TZID=America/Denver:20260827T080000
DTEND;TZID=America/Denver:20260827T090000
DTSTAMP:20260421T043735
CREATED:20250616T171055Z
LAST-MODIFIED:20250616T171059Z
UID:10000950-1787817600-1787821200@www.tappsislandgolf.com
SUMMARY:Senior's CLub
DESCRIPTION:
URL:https://www.tappsislandgolf.com/event/seniors-club-2/2026-08-27/
CATEGORIES:leagues
END:VEVENT
END:VCALENDAR