BEGIN:VCALENDAR
VERSION:2.0
PRODID:-//Tapps Island Golf Course - ECPv6.15.18//NONSGML v1.0//EN
CALSCALE:GREGORIAN
METHOD:PUBLISH
X-ORIGINAL-URL:https://www.tappsislandgolf.com
X-WR-CALDESC:Events for Tapps Island Golf Course
REFRESH-INTERVAL;VALUE=DURATION:PT1H
X-Robots-Tag:noindex
X-PUBLISHED-TTL:PT1H
BEGIN:VTIMEZONE
TZID:UTC
BEGIN:STANDARD
TZOFFSETFROM:+0000
TZOFFSETTO:+0000
TZNAME:UTC
DTSTART:20240101T000000
END:STANDARD
END:VTIMEZONE
BEGIN:VEVENT
DTSTART;TZID=UTC:20250913T130000
DTEND;TZID=UTC:20250913T170000
DTSTAMP:20260423T124959
CREATED:20250614T003751Z
LAST-MODIFIED:20250618T225747Z
UID:10000023-1757768400-1757782800@www.tappsislandgolf.com
SUMMARY:Bulldogs Baseball
DESCRIPTION:Saturday Shotgun
URL:https://www.tappsislandgolf.com/event/bulldogs-baseball/
CATEGORIES:tournament
END:VEVENT
END:VCALENDAR