BEGIN:VCALENDAR
VERSION:2.0
PRODID:-//Tapps Island Golf Course - ECPv6.15.18//NONSGML v1.0//EN
CALSCALE:GREGORIAN
METHOD:PUBLISH
X-WR-CALNAME:Tapps Island Golf Course
X-ORIGINAL-URL:https://www.tappsislandgolf.com
X-WR-CALDESC:Events for Tapps Island Golf Course
REFRESH-INTERVAL;VALUE=DURATION:PT1H
X-Robots-Tag:noindex
X-PUBLISHED-TTL:PT1H
BEGIN:VTIMEZONE
TZID:UTC
BEGIN:STANDARD
TZOFFSETFROM:+0000
TZOFFSETTO:+0000
TZNAME:UTC
DTSTART:20240101T000000
END:STANDARD
END:VTIMEZONE
BEGIN:VEVENT
DTSTART;TZID=UTC:20250817T080000
DTEND;TZID=UTC:20250817T140000
DTSTAMP:20260423T123911
CREATED:20250614T002935Z
LAST-MODIFIED:20250618T151603Z
UID:10000016-1755417600-1755439200@www.tappsislandgolf.com
SUMMARY:WRHS Football Booster
DESCRIPTION:Sunday Shotgun
URL:https://www.tappsislandgolf.com/event/wrhs-football-booster/
CATEGORIES:tournament
END:VEVENT
END:VCALENDAR